BEGIN:VCALENDAR
VERSION:2.0
PRODID:-//Muskegon Conservation Club - ECPv6.10.2//NONSGML v1.0//EN
CALSCALE:GREGORIAN
METHOD:PUBLISH
X-ORIGINAL-URL:https://muskegonconservationclub.org
X-WR-CALDESC:Events for Muskegon Conservation Club
REFRESH-INTERVAL;VALUE=DURATION:PT1H
X-Robots-Tag:noindex
X-PUBLISHED-TTL:PT1H
BEGIN:VTIMEZONE
TZID:UTC
BEGIN:STANDARD
TZOFFSETFROM:+0000
TZOFFSETTO:+0000
TZNAME:UTC
DTSTART:20230101T000000
END:STANDARD
END:VTIMEZONE
BEGIN:VEVENT
DTSTART;TZID=UTC:20240413T080000
DTEND;TZID=UTC:20240413T150000
DTSTAMP:20260424T231848
CREATED:20240207T004424Z
LAST-MODIFIED:20240408T185037Z
UID:10000014-1712995200-1713020400@muskegonconservationclub.org
SUMMARY:Highway Road Cleanup - April 13th
DESCRIPTION:
URL:https://muskegonconservationclub.org/events-upcoming/highway-road-cleanup-april-27th/
ATTACH;FMTTYPE=image/jpeg:https://muskegonconservationclub.org/wp-content/uploads/2024/02/77bae0df-d033-4b87-914b-bd613b3cf284_750x422.jpg
END:VEVENT
BEGIN:VEVENT
DTSTART;TZID=UTC:20240308T080000
DTEND;TZID=UTC:20240309T160000
DTSTAMP:20260424T231848
CREATED:20240103T180701Z
LAST-MODIFIED:20240103T180827Z
UID:10000011-1709884800-1710000000@muskegonconservationclub.org
SUMMARY:2024 MUCC ANNUAL CONVENTION
DESCRIPTION:MUCC’s 2024 Annual Convention will be held at the Kewadin Casino & Hotel in Sault Ste. Marie from March 8-9!  \nRegistration forms and club authorizations must be received by MUCC no later than February 19\, 2024. If you cannot mail your forms in time\, contact Elyse Kopietz at ekopietz@mucc.org or by calling 517-346-6463. \nLearn more here.
URL:https://muskegonconservationclub.org/events-upcoming/2024-mucc-annual-convention/
ATTACH;FMTTYPE=image/jpeg:https://muskegonconservationclub.org/wp-content/uploads/2024/01/Screenshot-2024-01-03-at-1.06.16 PM.jpg
END:VEVENT
BEGIN:VEVENT
DTSTART;TZID=UTC:20240217T070000
DTEND;TZID=UTC:20240217T170000
DTSTAMP:20260424T231848
CREATED:20240103T171104Z
LAST-MODIFIED:20240103T171247Z
UID:10000010-1708153200-1708189200@muskegonconservationclub.org
SUMMARY:MCC Free Fishing Derby
DESCRIPTION:Come out and have some fun fishing at the club. A perfect chance to bring your non-member friends and family to help drive membership and MCC awareness. \n• 7am – Breakfast at the MCC Pavilion.\n• Sun Up – Fishing starts\n• 3pm – Weigh-in\n• 3:30 – Pot-luck\, fish stories and prizes
URL:https://muskegonconservationclub.org/events-upcoming/mcc-free-fishing-derby/
ATTACH;FMTTYPE=image/jpeg:https://muskegonconservationclub.org/wp-content/uploads/2024/01/sunset_fishing_boat.jpg
END:VEVENT
BEGIN:VEVENT
DTSTART;TZID=UTC:20240207T080000
DTEND;TZID=UTC:20240207T170000
DTSTAMP:20260424T231848
CREATED:20240207T010003Z
LAST-MODIFIED:20240207T133702Z
UID:10000015-1707292800-1707325200@muskegonconservationclub.org
SUMMARY:Slip Dues & Last Day to Put In Your Boat
DESCRIPTION:• Slip fees are due by March 5th\n• Slip Fees need to be sent to STEVE VAN DYKE at 641 West Wedgewood Drive\, North Muskegon 49445\n• Do not send slip fees to the club address or PO box. \nLAST DAY TO HAUL IN YOUR BOAT IS MAY 18th. No Boats will be put in over labor day and are subject to a $10 a day fee after May 18th.
URL:https://muskegonconservationclub.org/events-upcoming/slip-dues-last-day-to-put-in-your-boat/
ATTACH;FMTTYPE=image/jpeg:https://muskegonconservationclub.org/wp-content/uploads/2023/04/marinia_.jpg
END:VEVENT
BEGIN:VEVENT
DTSTART;TZID=UTC:20230909T090000
DTEND;TZID=UTC:20230909T150000
DTSTAMP:20260424T231848
CREATED:20230907T201533Z
LAST-MODIFIED:20230907T202102Z
UID:10000007-1694250000-1694271600@muskegonconservationclub.org
SUMMARY:Sportsmen for Youth - Youth Day
DESCRIPTION:Sportsmen for Youth – Youth day. Kids 17 and under receive a free t-shirt\, lunch and prizes. Free outdoor family fun. September 9th\, from 9am-3pm. Muskegon County Fairgrounds. \nDownload Event PDF
URL:https://muskegonconservationclub.org/events-upcoming/sportsmen-for-youth-youth-day/
LOCATION:Muskegon County Fairgrounds
ATTACH;FMTTYPE=image/jpeg:https://muskegonconservationclub.org/wp-content/uploads/2023/09/299979869_5338400112945458_3733819807237896895_n.jpg
END:VEVENT
BEGIN:VEVENT
DTSTART;TZID=UTC:20230902T170000
DTEND;TZID=UTC:20230902T200000
DTSTAMP:20260424T231848
CREATED:20230707T141542Z
LAST-MODIFIED:20230707T141612Z
UID:10000003-1693674000-1693684800@muskegonconservationclub.org
SUMMARY:Music/Entertainment at Club House - Two Dudes In Flip FLop’s
DESCRIPTION:
URL:https://muskegonconservationclub.org/events-upcoming/music-entertainment-at-club-house-two-dudes-in-flip-flops/
END:VEVENT
BEGIN:VEVENT
DTSTART;TZID=UTC:20230902T120000
DTEND;TZID=UTC:20230902T150000
DTSTAMP:20260424T231848
CREATED:20230707T141450Z
LAST-MODIFIED:20230707T141535Z
UID:10000002-1693656000-1693666800@muskegonconservationclub.org
SUMMARY:Annual Rum Cup
DESCRIPTION:
URL:https://muskegonconservationclub.org/events-upcoming/annual-rum-cup/
END:VEVENT
BEGIN:VEVENT
DTSTART;TZID=UTC:20230702T060000
DTEND;TZID=UTC:20230702T200000
DTSTAMP:20260424T231848
CREATED:20230707T135225Z
LAST-MODIFIED:20230707T135327Z
UID:10000001-1688277600-1688328000@muskegonconservationclub.org
SUMMARY:Club Pig Roast
DESCRIPTION:
URL:https://muskegonconservationclub.org/events-upcoming/club-pig-roast/
END:VEVENT
BEGIN:VEVENT
DTSTART;TZID=UTC:20230616T140000
DTEND;TZID=UTC:20230616T180000
DTSTAMP:20260424T231848
CREATED:20230707T141811Z
LAST-MODIFIED:20230707T141949Z
UID:10000004-1686924000-1686938400@muskegonconservationclub.org
SUMMARY:United States Coast Guard Auxiliary Free Vessel Safety Check
DESCRIPTION:The United States Coast Guard Auxiliary will perform a free Vessel Safety Check (“VSC”) at your boat\, Friday\, June 16\, 2-6 p.m. and Saturday\, June 17 starting at 10 a.m.\, at Fisherman’s Landing. There is no charge\, and no consequences if you don’t pass. Their goal is simply to help make boating as safe as possible for you\, your family and your friends.
URL:https://muskegonconservationclub.org/events-upcoming/united-states-coast-guard-auxiliary-free-vessel-safety-check/
END:VEVENT
BEGIN:VEVENT
DTSTART;TZID=UTC:20230610T090000
DTEND;TZID=UTC:20230610T140000
DTSTAMP:20260424T231848
CREATED:20230707T142018Z
LAST-MODIFIED:20230707T142045Z
UID:10000005-1686387600-1686405600@muskegonconservationclub.org
SUMMARY:MCC Youth Fishing Derby
DESCRIPTION:
URL:https://muskegonconservationclub.org/events-upcoming/mcc-youth-fishing-derby/
END:VEVENT
BEGIN:VEVENT
DTSTART;TZID=UTC:20230527T180000
DTEND;TZID=UTC:20230527T200000
DTSTAMP:20260424T231848
CREATED:20230707T142144Z
LAST-MODIFIED:20230707T142237Z
UID:10000006-1685210400-1685217600@muskegonconservationclub.org
SUMMARY:MCC Ice Cream Social
DESCRIPTION:
URL:https://muskegonconservationclub.org/events-upcoming/mcc-ice-cream-social/
END:VEVENT
END:VCALENDAR