BEGIN:VCALENDAR
VERSION:2.0
PRODID:-//Muskegon Conservation Club - ECPv6.10.2//NONSGML v1.0//EN
CALSCALE:GREGORIAN
METHOD:PUBLISH
X-ORIGINAL-URL:https://muskegonconservationclub.org
X-WR-CALDESC:Events for Muskegon Conservation Club
REFRESH-INTERVAL;VALUE=DURATION:PT1H
X-Robots-Tag:noindex
X-PUBLISHED-TTL:PT1H
BEGIN:VTIMEZONE
TZID:UTC
BEGIN:STANDARD
TZOFFSETFROM:+0000
TZOFFSETTO:+0000
TZNAME:UTC
DTSTART:20230101T000000
END:STANDARD
END:VTIMEZONE
BEGIN:VEVENT
DTSTART;TZID=UTC:20241207T150000
DTEND;TZID=UTC:20241207T190000
DTSTAMP:20260424T200812
CREATED:20241111T200433Z
LAST-MODIFIED:20241111T200855Z
UID:10000021-1733583600-1733598000@muskegonconservationclub.org
SUMMARY:Club Christmas Party
DESCRIPTION:Join us for our annual MCC Christmas Party at the Clubhouse.\nSaturday December 7th\, 3pm-7pm\nPlus the annual best/ugliest sweater contest!
URL:https://muskegonconservationclub.org/events-upcoming/club-christmas-party/
END:VEVENT
BEGIN:VEVENT
DTSTART;TZID=UTC:20241101T080000
DTEND;TZID=UTC:20241224T170000
DTSTAMP:20260424T200812
CREATED:20241111T201757Z
LAST-MODIFIED:20241111T202046Z
UID:10000023-1730448000-1735059600@muskegonconservationclub.org
SUMMARY:THE SALVATION ARMY GREAT LAKES DIVISION - MUSKEGON CORPS
DESCRIPTION:[vc_row type=”in_container” full_screen_row_position=”middle” column_margin=”default” column_direction=”default” column_direction_tablet=”default” column_direction_phone=”default” scene_position=”center” text_color=”dark” text_align=”left” row_border_radius=”none” row_border_radius_applies=”bg” overflow=”visible” overlay_strength=”0.3″ gradient_direction=”left_to_right” shape_divider_position=”bottom” bg_image_animation=”none”][vc_column column_padding=”no-extra-padding” column_padding_tablet=”inherit” column_padding_phone=”inherit” column_padding_position=”all” column_element_direction_desktop=”default” column_element_spacing=”default” desktop_text_alignment=”default” tablet_text_alignment=”default” phone_text_alignment=”default” background_color_opacity=”1″ background_hover_color_opacity=”1″ column_backdrop_filter=”none” column_shadow=”none” column_border_radius=”none” column_link_target=”_self” column_position=”default” gradient_direction=”left_to_right” overlay_strength=”0.3″ width=”1/1″ tablet_width_inherit=”default” animation_type=”default” bg_image_animation=”none” border_type=”simple” column_border_width=”none” column_border_style=”solid”][vc_column_text]Greetings\, Muskegon Conservation Club:\n\nThough the weather is still warm\, and the leaves are just beginning to show their Fal Foliage\, The Salvation Army of Muskegon is already making plans for Thanksgiving\, the Red Ketle Campaign\, and assisting families ni need this Christmas Season.\nWe are seeking volunteers in our community to help us help others this Holiday\nSeason. There are several volunteer opportunities available. A brochure si included with this leter that lists volunteer opportunities and gives asummary of each one. \nYour assistance this Holiday Season will help your community all through the year. During the Holiday season\, The Salvation Army si dedicated to providing additional assistance ot families. But please remember that funds generated during our Red Kettle Campaign also support The Salvation Army’s year-long programs in our community\, including our rental and utility assistance\, youth programming\, Food Pantry\, and Produce Giveaway. \nThe United Way has chosen not ot fund The Salvation Army ni Muskegon\, so our Christmas fundraising effort is even more crucial for us. \nI invite you ot look through the included brochure and select one or two ways your business\, church or organization might be able to help us this year. \nAs a “side bar” – We have 1\,037 two (2) hour shifts to fil during our Red Kettle Christmas Campaign (November 9-December 24\, Monday-Saturday). The more shifts we fil with volunteers\, the more funding we have available ot assist families in need throughout the coming year. So\, please consider “manning” a kettle for us at some point this season. \nfI you have any questions or would like me to make a presentation to your employees or members about our programs or volunteer opportunities\, please contact me. \nBlessings!\nLynneta Pof\, Major \nMUSKEGON CORPS\nAddress: 1221 Shonat Street Muskegon\, MI 49442\nOffice Phone: 231-773-3284\nSAMUSKEGON.ORG[/vc_column_text][/vc_column][/vc_row][vc_row type=”in_container” full_screen_row_position=”middle” column_margin=”default” column_direction=”default” column_direction_tablet=”default” column_direction_phone=”default” scene_position=”center” text_color=”dark” text_align=”left” row_border_radius=”none” row_border_radius_applies=”bg” overflow=”visible” overlay_strength=”0.3″ gradient_direction=”left_to_right” shape_divider_position=”bottom” bg_image_animation=”none”][vc_column column_padding=”no-extra-padding” column_padding_tablet=”inherit” column_padding_phone=”inherit” column_padding_position=”all” column_element_direction_desktop=”default” column_element_spacing=”default” desktop_text_alignment=”default” tablet_text_alignment=”default” phone_text_alignment=”default” background_color_opacity=”1″ background_hover_color_opacity=”1″ column_backdrop_filter=”none” column_shadow=”none” column_border_radius=”none” column_link_target=”_self” column_position=”default” gradient_direction=”left_to_right” overlay_strength=”0.3″ width=”1/2″ tablet_width_inherit=”default” animation_type=”default” bg_image_animation=”none” border_type=”simple” column_border_width=”none” column_border_style=”solid”][image_with_animation image_url=”1075″ image_size=”full” animation_type=”entrance” animation=”None” animation_movement_type=”transform_y” hover_animation=”none” alignment=”” border_radius=”none” box_shadow=”none” image_loading=”default” max_width=”100%” max_width_mobile=”default”][/vc_column][vc_column column_padding=”no-extra-padding” column_padding_tablet=”inherit” column_padding_phone=”inherit” column_padding_position=”all” column_element_direction_desktop=”default” column_element_spacing=”default” desktop_text_alignment=”default” tablet_text_alignment=”default” phone_text_alignment=”default” background_color_opacity=”1″ background_hover_color_opacity=”1″ column_backdrop_filter=”none” column_shadow=”none” column_border_radius=”none” column_link_target=”_self” column_position=”default” gradient_direction=”left_to_right” overlay_strength=”0.3″ width=”1/2″ tablet_width_inherit=”default” animation_type=”default” bg_image_animation=”none” border_type=”simple” column_border_width=”none” column_border_style=”solid”][nectar_btn size=”jumbo” open_new_tab=”true” button_style=”regular” button_color_2=”Accent-Color” icon_family=”fontawesome” text=”Informational Brochure” url=”https://muskegonconservationclub.org/wp-content/uploads/2024/11/0853_001.pdf” icon_fontawesome=”fa fa-file-pdf-o”][/vc_column][/vc_row]
URL:https://muskegonconservationclub.org/events-upcoming/the-salvation-army-great-lakes-division-muskegon-corps/
END:VEVENT
BEGIN:VEVENT
DTSTART;TZID=UTC:20240901T080000
DTEND;TZID=UTC:20241124T170000
DTSTAMP:20260424T200812
CREATED:20241111T201519Z
LAST-MODIFIED:20241111T203044Z
UID:10000022-1725177600-1732467600@muskegonconservationclub.org
SUMMARY:White Lake Area Sportfishing Association - September Newsletter
DESCRIPTION:[vc_row type=”in_container” full_screen_row_position=”middle” column_margin=”default” column_direction=”default” column_direction_tablet=”default” column_direction_phone=”default” scene_position=”center” text_color=”dark” text_align=”left” row_border_radius=”none” row_border_radius_applies=”bg” overflow=”visible” overlay_strength=”0.3″ gradient_direction=”left_to_right” shape_divider_position=”bottom” bg_image_animation=”none”][vc_column column_padding=”no-extra-padding” column_padding_tablet=”inherit” column_padding_phone=”inherit” column_padding_position=”all” column_element_direction_desktop=”default” column_element_spacing=”default” desktop_text_alignment=”default” tablet_text_alignment=”default” phone_text_alignment=”default” background_color_opacity=”1″ background_hover_color_opacity=”1″ column_backdrop_filter=”none” column_shadow=”none” column_border_radius=”none” column_link_target=”_self” column_position=”default” gradient_direction=”left_to_right” overlay_strength=”0.3″ width=”1/1″ tablet_width_inherit=”default” animation_type=”default” bg_image_animation=”none” border_type=”simple” column_border_width=”none” column_border_style=”solid”][vc_column_text]WLASA NEWZ\nTHIRD QUARTER\, SEPTEMBER 2024 \nPRESIDENT’S MESSAGE\nGreetings to all WLASA members and families. First off\, I would like to offer my sincere thanks to al the members who made this year’s Bill Gillain memorial fish boil a huge success. We served over\n620 dinners and had a successful raffle and an excellent silent auction which resulted in our organization being well funded for the coming year. \nFour days before the event I caught covid which put me down for almost two weeks and as a result I\nmissed the event. I sincerely thank our team who rallied ni my absence\, picked up the slack and made this year’s boil a huge success. Special thanks go to Paula Hanks\, Doug Prosch\, John Noling\, Leah Bogen\, and Mike Schiller for everything you did to pull this off… \nRead More… \n[/vc_column_text][nectar_btn size=”jumbo” button_style=”regular” button_color_2=”Accent-Color” solid_text_color_override=”#ffffff” icon_family=”fontawesome” text=”Download Newsletter” url=”https://muskegonconservationclub.org/wp-content/uploads/2024/11/0850_001.pdf” icon_fontawesome=”fa fa-file-pdf-o”][/vc_column][/vc_row]
URL:https://muskegonconservationclub.org/events-upcoming/white-lake-area-sportfishing-association-september-newsletter/
END:VEVENT
BEGIN:VEVENT
DTSTART;TZID=UTC:20240706T170000
DTEND;TZID=UTC:20240706T220000
DTSTAMP:20260424T200812
CREATED:20240618T202004Z
LAST-MODIFIED:20240618T202848Z
UID:10000020-1720285200-1720303200@muskegonconservationclub.org
SUMMARY:Pot Luck & Live Music
DESCRIPTION:Pot Luck @ 5pm: Bring a dish to pass\nLive Music @ 8pm: The Group Therapy Band\nWhere: Clubhouse Screen Room
URL:https://muskegonconservationclub.org/events-upcoming/pot-luck-live-music/
ATTACH;FMTTYPE=image/jpeg:https://muskegonconservationclub.org/wp-content/uploads/2024/06/Screenshot-2024-06-18-at-4.26.54 PM.jpg
END:VEVENT
BEGIN:VEVENT
DTSTART;VALUE=DATE:20240622
DTEND;VALUE=DATE:20240623
DTSTAMP:20260424T200812
CREATED:20240103T164112Z
LAST-MODIFIED:20240103T171409Z
UID:10000008-1719014400-1719100799@muskegonconservationclub.org
SUMMARY:Club House Private Party (Rented)
DESCRIPTION:The main clubhouse is rented for the day and will be unavailable to members.
URL:https://muskegonconservationclub.org/events-upcoming/club-house-private-party-rented/
ATTACH;FMTTYPE=image/png:https://muskegonconservationclub.org/wp-content/uploads/2023/03/Muskegon_Conservation_Club_Logo_Stacked_1C.png
END:VEVENT
BEGIN:VEVENT
DTSTART;TZID=UTC:20240608T090000
DTEND;TZID=UTC:20240608T170000
DTSTAMP:20260424T200812
CREATED:20240103T192222Z
LAST-MODIFIED:20240608T144420Z
UID:10000012-1717837200-1717866000@muskegonconservationclub.org
SUMMARY:Free Boys & Girls Fishing Derby
DESCRIPTION:Boys and Girls Two age groups – 4 thru 7 and 8 thru 12\nRegistration begins at 9am\nFishing from 11am – Noon\nPrizes/Refreshments Noon – 2pm\n\nSign up at Club Pavilion 9am- 11am day of Derby
URL:https://muskegonconservationclub.org/events-upcoming/free-boys-girls-fishing-derby/
ATTACH;FMTTYPE=image/webp:https://muskegonconservationclub.org/wp-content/uploads/2024/01/bgf8f8f8-flat750x075f-pad750x1000f8f8f8.webp
END:VEVENT
BEGIN:VEVENT
DTSTART;TZID=UTC:20240607T100000
DTEND;TZID=UTC:20240609T150000
DTSTAMP:20260424T200812
CREATED:20240520T133411Z
LAST-MODIFIED:20240520T133742Z
UID:10000017-1717754400-1717945200@muskegonconservationclub.org
SUMMARY:Coast Guard Auxiliary Safety Inspections - June 7-9th
DESCRIPTION:[vc_row type=”in_container” full_screen_row_position=”middle” column_margin=”default” column_direction=”default” column_direction_tablet=”default” column_direction_phone=”default” scene_position=”center” text_color=”dark” text_align=”left” row_border_radius=”none” row_border_radius_applies=”bg” overflow=”visible” overlay_strength=”0.3″ gradient_direction=”left_to_right” shape_divider_position=”bottom” bg_image_animation=”none”][vc_column column_padding=”no-extra-padding” column_padding_tablet=”inherit” column_padding_phone=”inherit” column_padding_position=”all” column_element_direction_desktop=”default” column_element_spacing=”default” desktop_text_alignment=”default” tablet_text_alignment=”default” phone_text_alignment=”default” background_color_opacity=”1″ background_hover_color_opacity=”1″ column_backdrop_filter=”none” column_shadow=”none” column_border_radius=”none” column_link_target=”_self” column_position=”default” gradient_direction=”left_to_right” overlay_strength=”0.3″ width=”1/1″ tablet_width_inherit=”default” animation_type=”default” bg_image_animation=”none” border_type=”simple” column_border_width=”none” column_border_style=”solid”][image_with_animation image_url=”902″ image_size=”full” animation_type=”entrance” animation=”None” animation_movement_type=”transform_y” hover_animation=”none” alignment=”” border_radius=”none” box_shadow=”none” image_loading=”default” max_width=”100%” max_width_mobile=”default”][/vc_column][/vc_row][vc_row type=”in_container” full_screen_row_position=”middle” column_margin=”default” column_direction=”default” column_direction_tablet=”default” column_direction_phone=”default” scene_position=”center” text_color=”dark” text_align=”left” row_border_radius=”none” row_border_radius_applies=”bg” overflow=”visible” overlay_strength=”0.3″ gradient_direction=”left_to_right” shape_divider_position=”bottom” bg_image_animation=”none”][vc_column column_padding=”no-extra-padding” column_padding_tablet=”inherit” column_padding_phone=”inherit” column_padding_position=”all” column_element_direction_desktop=”default” column_element_spacing=”default” desktop_text_alignment=”default” tablet_text_alignment=”default” phone_text_alignment=”default” background_color_opacity=”1″ background_hover_color_opacity=”1″ column_backdrop_filter=”none” column_shadow=”none” column_border_radius=”none” column_link_target=”_self” column_position=”default” gradient_direction=”left_to_right” overlay_strength=”0.3″ width=”1/1″ tablet_width_inherit=”default” animation_type=”default” bg_image_animation=”none” border_type=”simple” column_border_width=”none” column_border_style=”solid”][vc_column_text]Coast Guard auxiliary safety inspections will be June 7-9th\, sign up sheet will be posted in the bath house. This is a free service offered by the Coast Guard auxiliary and you get a sticker to put on your boat that shows the Coast Guard your boat meets all safety requirements. \nLearn more here.[/vc_column_text][/vc_column][/vc_row]
URL:https://muskegonconservationclub.org/events-upcoming/coast-guard-auxiliary-safety-inspections-june-7-9th/
ATTACH;FMTTYPE=image/png:https://muskegonconservationclub.org/wp-content/uploads/2024/05/Safety-Check-2022-2.png
END:VEVENT
BEGIN:VEVENT
DTSTART;TZID=UTC:20240601T070000
DTEND;TZID=UTC:20240601T203000
DTSTAMP:20260424T200812
CREATED:20240531T194512Z
LAST-MODIFIED:20240531T194512Z
UID:10000019-1717225200-1717273800@muskegonconservationclub.org
SUMMARY:MCC Euchre Tournament - 7pm
DESCRIPTION:MCC Euchre Tournament – 7pm\nJoin us in the screen room.\nPopcorn will be provided.
URL:https://muskegonconservationclub.org/events-upcoming/mcc-euchre-tournament-7pm/
ATTACH;FMTTYPE=image/jpeg:https://muskegonconservationclub.org/wp-content/uploads/2024/05/Euchre.jpg
END:VEVENT
BEGIN:VEVENT
DTSTART;TZID=UTC:20240525T130000
DTEND;TZID=UTC:20240525T143000
DTSTAMP:20260424T200812
CREATED:20240520T211119Z
LAST-MODIFIED:20240520T211243Z
UID:10000018-1716642000-1716647400@muskegonconservationclub.org
SUMMARY:Ice Cream Social - May 25th
DESCRIPTION:[vc_row type=”in_container” full_screen_row_position=”middle” column_margin=”default” column_direction=”default” column_direction_tablet=”default” column_direction_phone=”default” scene_position=”center” text_color=”dark” text_align=”left” row_border_radius=”none” row_border_radius_applies=”bg” overflow=”visible” overlay_strength=”0.3″ gradient_direction=”left_to_right” shape_divider_position=”bottom” bg_image_animation=”none”][vc_column column_padding=”no-extra-padding” column_padding_tablet=”inherit” column_padding_phone=”inherit” column_padding_position=”all” column_element_direction_desktop=”default” column_element_spacing=”default” desktop_text_alignment=”default” tablet_text_alignment=”default” phone_text_alignment=”default” background_color_opacity=”1″ background_hover_color_opacity=”1″ column_backdrop_filter=”none” column_shadow=”none” column_border_radius=”none” column_link_target=”_self” column_position=”default” gradient_direction=”left_to_right” overlay_strength=”0.3″ width=”1/1″ tablet_width_inherit=”default” animation_type=”default” bg_image_animation=”none” border_type=”simple” column_border_width=”none” column_border_style=”solid”][image_with_animation image_url=”908″ image_size=”full” animation_type=”entrance” animation=”None” animation_movement_type=”transform_y” hover_animation=”none” alignment=”” border_radius=”none” box_shadow=”none” image_loading=”default” max_width=”100%” max_width_mobile=”default”][vc_column_text]PLUS: Penelope will be providing live music and singing at 1:00 in the pavilion during the Ice Cream Social.[/vc_column_text][/vc_column][/vc_row]
URL:https://muskegonconservationclub.org/events-upcoming/ice-cream-social-may-25th/
END:VEVENT
BEGIN:VEVENT
DTSTART;TZID=UTC:20240525T120000
DTEND;TZID=UTC:20240525T130000
DTSTAMP:20260424T200812
CREATED:20240520T133034Z
LAST-MODIFIED:20240520T133034Z
UID:10000016-1716638400-1716642000@muskegonconservationclub.org
SUMMARY:Blessing of the Marina - May 25th
DESCRIPTION:Meet at the clubhouse at 12 noon.\nDeacon Jim Schultz from Prince of Peace church will be doing the blessing.
URL:https://muskegonconservationclub.org/events-upcoming/blessing-of-the-marina-may-25th/
END:VEVENT
BEGIN:VEVENT
DTSTART;TZID=UTC:20240505T130000
DTEND;TZID=UTC:20240505T150000
DTSTAMP:20260424T200812
CREATED:20240103T165205Z
LAST-MODIFIED:20240104T015532Z
UID:10000009-1714914000-1714921200@muskegonconservationclub.org
SUMMARY:Cinco De Mayo Taco Lunch Buffet
DESCRIPTION:MCC members join us in the pavilion from 1pm to 3pm for a taco lunch to celebrate Cinco De Mayo! Food & non-alcoholic drinks are provided.
URL:https://muskegonconservationclub.org/events-upcoming/cinco-de-mayo-taco-lunch-buffet/
ATTACH;FMTTYPE=image/jpeg:https://muskegonconservationclub.org/wp-content/uploads/2024/01/groundmeattacos-680x450-1.jpg
END:VEVENT
BEGIN:VEVENT
DTSTART;TZID=UTC:20240420T090000
DTEND;TZID=UTC:20240420T140000
DTSTAMP:20260424T200812
CREATED:20240207T004302Z
LAST-MODIFIED:20240408T185119Z
UID:10000013-1713603600-1713621600@muskegonconservationclub.org
SUMMARY:Highway Road Cleanup - April 20th
DESCRIPTION:
URL:https://muskegonconservationclub.org/events-upcoming/highway-road-cleanup-april-20th/
ATTACH;FMTTYPE=image/jpeg:https://muskegonconservationclub.org/wp-content/uploads/2024/02/77bae0df-d033-4b87-914b-bd613b3cf284_750x422.jpg
END:VEVENT
BEGIN:VEVENT
DTSTART;TZID=UTC:20240413T080000
DTEND;TZID=UTC:20240413T150000
DTSTAMP:20260424T200812
CREATED:20240207T004424Z
LAST-MODIFIED:20240408T185037Z
UID:10000014-1712995200-1713020400@muskegonconservationclub.org
SUMMARY:Highway Road Cleanup - April 13th
DESCRIPTION:
URL:https://muskegonconservationclub.org/events-upcoming/highway-road-cleanup-april-27th/
ATTACH;FMTTYPE=image/jpeg:https://muskegonconservationclub.org/wp-content/uploads/2024/02/77bae0df-d033-4b87-914b-bd613b3cf284_750x422.jpg
END:VEVENT
BEGIN:VEVENT
DTSTART;TZID=UTC:20240308T080000
DTEND;TZID=UTC:20240309T160000
DTSTAMP:20260424T200812
CREATED:20240103T180701Z
LAST-MODIFIED:20240103T180827Z
UID:10000011-1709884800-1710000000@muskegonconservationclub.org
SUMMARY:2024 MUCC ANNUAL CONVENTION
DESCRIPTION:MUCC’s 2024 Annual Convention will be held at the Kewadin Casino & Hotel in Sault Ste. Marie from March 8-9!  \nRegistration forms and club authorizations must be received by MUCC no later than February 19\, 2024. If you cannot mail your forms in time\, contact Elyse Kopietz at ekopietz@mucc.org or by calling 517-346-6463. \nLearn more here.
URL:https://muskegonconservationclub.org/events-upcoming/2024-mucc-annual-convention/
ATTACH;FMTTYPE=image/jpeg:https://muskegonconservationclub.org/wp-content/uploads/2024/01/Screenshot-2024-01-03-at-1.06.16 PM.jpg
END:VEVENT
BEGIN:VEVENT
DTSTART;TZID=UTC:20240217T070000
DTEND;TZID=UTC:20240217T170000
DTSTAMP:20260424T200812
CREATED:20240103T171104Z
LAST-MODIFIED:20240103T171247Z
UID:10000010-1708153200-1708189200@muskegonconservationclub.org
SUMMARY:MCC Free Fishing Derby
DESCRIPTION:Come out and have some fun fishing at the club. A perfect chance to bring your non-member friends and family to help drive membership and MCC awareness. \n• 7am – Breakfast at the MCC Pavilion.\n• Sun Up – Fishing starts\n• 3pm – Weigh-in\n• 3:30 – Pot-luck\, fish stories and prizes
URL:https://muskegonconservationclub.org/events-upcoming/mcc-free-fishing-derby/
ATTACH;FMTTYPE=image/jpeg:https://muskegonconservationclub.org/wp-content/uploads/2024/01/sunset_fishing_boat.jpg
END:VEVENT
BEGIN:VEVENT
DTSTART;TZID=UTC:20240207T080000
DTEND;TZID=UTC:20240207T170000
DTSTAMP:20260424T200812
CREATED:20240207T010003Z
LAST-MODIFIED:20240207T133702Z
UID:10000015-1707292800-1707325200@muskegonconservationclub.org
SUMMARY:Slip Dues & Last Day to Put In Your Boat
DESCRIPTION:• Slip fees are due by March 5th\n• Slip Fees need to be sent to STEVE VAN DYKE at 641 West Wedgewood Drive\, North Muskegon 49445\n• Do not send slip fees to the club address or PO box. \nLAST DAY TO HAUL IN YOUR BOAT IS MAY 18th. No Boats will be put in over labor day and are subject to a $10 a day fee after May 18th.
URL:https://muskegonconservationclub.org/events-upcoming/slip-dues-last-day-to-put-in-your-boat/
ATTACH;FMTTYPE=image/jpeg:https://muskegonconservationclub.org/wp-content/uploads/2023/04/marinia_.jpg
END:VEVENT
BEGIN:VEVENT
DTSTART;TZID=UTC:20230909T090000
DTEND;TZID=UTC:20230909T150000
DTSTAMP:20260424T200812
CREATED:20230907T201533Z
LAST-MODIFIED:20230907T202102Z
UID:10000007-1694250000-1694271600@muskegonconservationclub.org
SUMMARY:Sportsmen for Youth - Youth Day
DESCRIPTION:Sportsmen for Youth – Youth day. Kids 17 and under receive a free t-shirt\, lunch and prizes. Free outdoor family fun. September 9th\, from 9am-3pm. Muskegon County Fairgrounds. \nDownload Event PDF
URL:https://muskegonconservationclub.org/events-upcoming/sportsmen-for-youth-youth-day/
LOCATION:Muskegon County Fairgrounds
ATTACH;FMTTYPE=image/jpeg:https://muskegonconservationclub.org/wp-content/uploads/2023/09/299979869_5338400112945458_3733819807237896895_n.jpg
END:VEVENT
BEGIN:VEVENT
DTSTART;TZID=UTC:20230902T170000
DTEND;TZID=UTC:20230902T200000
DTSTAMP:20260424T200812
CREATED:20230707T141542Z
LAST-MODIFIED:20230707T141612Z
UID:10000003-1693674000-1693684800@muskegonconservationclub.org
SUMMARY:Music/Entertainment at Club House - Two Dudes In Flip FLop’s
DESCRIPTION:
URL:https://muskegonconservationclub.org/events-upcoming/music-entertainment-at-club-house-two-dudes-in-flip-flops/
END:VEVENT
BEGIN:VEVENT
DTSTART;TZID=UTC:20230902T120000
DTEND;TZID=UTC:20230902T150000
DTSTAMP:20260424T200812
CREATED:20230707T141450Z
LAST-MODIFIED:20230707T141535Z
UID:10000002-1693656000-1693666800@muskegonconservationclub.org
SUMMARY:Annual Rum Cup
DESCRIPTION:
URL:https://muskegonconservationclub.org/events-upcoming/annual-rum-cup/
END:VEVENT
BEGIN:VEVENT
DTSTART;TZID=UTC:20230702T060000
DTEND;TZID=UTC:20230702T200000
DTSTAMP:20260424T200812
CREATED:20230707T135225Z
LAST-MODIFIED:20230707T135327Z
UID:10000001-1688277600-1688328000@muskegonconservationclub.org
SUMMARY:Club Pig Roast
DESCRIPTION:
URL:https://muskegonconservationclub.org/events-upcoming/club-pig-roast/
END:VEVENT
BEGIN:VEVENT
DTSTART;TZID=UTC:20230616T140000
DTEND;TZID=UTC:20230616T180000
DTSTAMP:20260424T200812
CREATED:20230707T141811Z
LAST-MODIFIED:20230707T141949Z
UID:10000004-1686924000-1686938400@muskegonconservationclub.org
SUMMARY:United States Coast Guard Auxiliary Free Vessel Safety Check
DESCRIPTION:The United States Coast Guard Auxiliary will perform a free Vessel Safety Check (“VSC”) at your boat\, Friday\, June 16\, 2-6 p.m. and Saturday\, June 17 starting at 10 a.m.\, at Fisherman’s Landing. There is no charge\, and no consequences if you don’t pass. Their goal is simply to help make boating as safe as possible for you\, your family and your friends.
URL:https://muskegonconservationclub.org/events-upcoming/united-states-coast-guard-auxiliary-free-vessel-safety-check/
END:VEVENT
BEGIN:VEVENT
DTSTART;TZID=UTC:20230610T090000
DTEND;TZID=UTC:20230610T140000
DTSTAMP:20260424T200812
CREATED:20230707T142018Z
LAST-MODIFIED:20230707T142045Z
UID:10000005-1686387600-1686405600@muskegonconservationclub.org
SUMMARY:MCC Youth Fishing Derby
DESCRIPTION:
URL:https://muskegonconservationclub.org/events-upcoming/mcc-youth-fishing-derby/
END:VEVENT
BEGIN:VEVENT
DTSTART;TZID=UTC:20230527T180000
DTEND;TZID=UTC:20230527T200000
DTSTAMP:20260424T200812
CREATED:20230707T142144Z
LAST-MODIFIED:20230707T142237Z
UID:10000006-1685210400-1685217600@muskegonconservationclub.org
SUMMARY:MCC Ice Cream Social
DESCRIPTION:
URL:https://muskegonconservationclub.org/events-upcoming/mcc-ice-cream-social/
END:VEVENT
END:VCALENDAR